Package: peco Version: 1.19.0 Command: /home/biocbuild/bbs-3.21-bioc/R/bin/R CMD build --keep-empty-dirs --no-resave-data peco StartedAt: 2025-02-18 18:29:35 -0500 (Tue, 18 Feb 2025) EndedAt: 2025-02-18 18:31:55 -0500 (Tue, 18 Feb 2025) EllapsedTime: 139.2 seconds RetCode: 0 Status: OK PackageFile: peco_1.19.0.tar.gz PackageFileSize: 1.068 MiB