Package: peco Version: 1.19.0 Command: /Library/Frameworks/R.framework/Resources/bin/R CMD build --keep-empty-dirs --no-resave-data peco StartedAt: 2025-02-18 17:44:07 -0500 (Tue, 18 Feb 2025) EndedAt: 2025-02-18 17:46:48 -0500 (Tue, 18 Feb 2025) EllapsedTime: 161.1 seconds RetCode: 0 Status: OK PackageFile: peco_1.19.0.tar.gz PackageFileSize: 1.068 MiB