Package: peco Version: 1.19.0 Command: rm -rf peco.buildbin-libdir && mkdir peco.buildbin-libdir && /Users/biocbuild/BBS/utils/build-universal.sh peco_1.19.0.tar.gz /Library/Frameworks/R.framework/Resources/bin/R peco.buildbin-libdir StartedAt: 2025-02-19 00:39:07 -0500 (Wed, 19 Feb 2025) EndedAt: 2025-02-19 00:39:47 -0500 (Wed, 19 Feb 2025) EllapsedTime: 39.4 seconds RetCode: 0 Status: OK PackageFile: peco_1.19.0.tgz PackageFileSize: 1.126 MiB