Package: peco Version: 1.19.0 Command: rm -rf peco.buildbin-libdir && mkdir peco.buildbin-libdir && /Users/biocbuild/BBS/utils/build-universal.sh peco_1.19.0.tar.gz /Library/Frameworks/R.framework/Resources/bin/R peco.buildbin-libdir StartedAt: 2025-02-18 22:32:13 -0500 (Tue, 18 Feb 2025) EndedAt: 2025-02-18 22:32:26 -0500 (Tue, 18 Feb 2025) EllapsedTime: 12.3 seconds RetCode: 0 Status: OK PackageFile: peco_1.19.0.tgz PackageFileSize: 1.127 MiB