Package: peco Version: 1.19.0 Maintainer: Chiaowen Joyce Hsiao MaintainerEmail: joyce.hsiao1 at gmail.com git_url: https://git.bioconductor.org/packages/peco git_branch: devel git_last_commit: a87c0cd git_last_commit_date: 2024-10-29 10:45:04 -0500 (Tue, 29 Oct 2024)