Package: peakPantheR Version: 1.21.0 Command: E:\biocbuild\bbs-3.21-bioc\R\bin\R.exe CMD INSTALL peakPantheR StartedAt: 2025-02-20 16:39:41 -0500 (Thu, 20 Feb 2025) EndedAt: 2025-02-20 16:41:40 -0500 (Thu, 20 Feb 2025) EllapsedTime: 118.2 seconds RetCode: 0 Status: OK