Package: peakPantheR Version: 1.21.0 Command: chmod a+r peakPantheR -R && E:\biocbuild\bbs-3.21-bioc\R\bin\R.exe CMD build --keep-empty-dirs --no-resave-data peakPantheR StartedAt: 2025-02-20 20:44:05 -0500 (Thu, 20 Feb 2025) EndedAt: 2025-02-20 20:46:24 -0500 (Thu, 20 Feb 2025) EllapsedTime: 138.8 seconds RetCode: 0 Status: OK PackageFile: peakPantheR_1.21.0.tar.gz PackageFileSize: 3.927 MiB