Package: peakPantheR Version: 1.21.0 Command: rm -rf peakPantheR.buildbin-libdir && mkdir peakPantheR.buildbin-libdir && E:\biocbuild\bbs-3.21-bioc\R\bin\R.exe CMD INSTALL --build --library=peakPantheR.buildbin-libdir peakPantheR_1.21.0.tar.gz StartedAt: 2025-02-21 08:44:49 -0500 (Fri, 21 Feb 2025) EndedAt: 2025-02-21 08:47:03 -0500 (Fri, 21 Feb 2025) EllapsedTime: 134.3 seconds RetCode: 0 Status: OK PackageFile: peakPantheR_1.21.0.zip PackageFileSize: 4.318 MiB