Package: peakPantheR Version: 1.21.0 Command: /Library/Frameworks/R.framework/Resources/bin/R CMD INSTALL peakPantheR StartedAt: 2025-02-20 15:29:37 -0500 (Thu, 20 Feb 2025) EndedAt: 2025-02-20 15:29:52 -0500 (Thu, 20 Feb 2025) EllapsedTime: 15.8 seconds RetCode: 0 Status: OK