Package: peakPantheR Version: 1.21.0 Command: rm -rf peakPantheR.buildbin-libdir && mkdir peakPantheR.buildbin-libdir && /Users/biocbuild/BBS/utils/build-universal.sh peakPantheR_1.21.0.tar.gz /Library/Frameworks/R.framework/Resources/bin/R peakPantheR.buildbin-libdir StartedAt: 2025-02-20 22:29:27 -0500 (Thu, 20 Feb 2025) EndedAt: 2025-02-20 22:29:32 -0500 (Thu, 20 Feb 2025) EllapsedTime: 5.1 seconds RetCode: 0 Status: OK PackageFile: peakPantheR_1.21.0.tgz PackageFileSize: 4.333 MiB