Package: pdInfoBuilder Version: 1.71.0 Command: rm -rf pdInfoBuilder.buildbin-libdir && mkdir pdInfoBuilder.buildbin-libdir && E:\biocbuild\bbs-3.21-bioc\R\bin\R.exe CMD INSTALL --build --library=pdInfoBuilder.buildbin-libdir pdInfoBuilder_1.71.0.tar.gz StartedAt: 2025-02-19 08:03:24 -0500 (Wed, 19 Feb 2025) EndedAt: 2025-02-19 08:06:03 -0500 (Wed, 19 Feb 2025) EllapsedTime: 159.8 seconds RetCode: 0 Status: OK PackageFile: pdInfoBuilder_1.71.0.zip PackageFileSize: 837.6 KiB