Package: pcaMethods Version: 1.99.0 Command: /home/biocbuild/bbs-3.21-bioc/R/bin/R CMD build --keep-empty-dirs --no-resave-data pcaMethods StartedAt: 2025-02-20 18:39:22 -0500 (Thu, 20 Feb 2025) EndedAt: 2025-02-20 18:41:13 -0500 (Thu, 20 Feb 2025) EllapsedTime: 111.1 seconds RetCode: 0 Status: OK PackageFile: pcaMethods_1.99.0.tar.gz PackageFileSize: 1016 KiB