Package: pcaMethods Version: 2.0.0 Command: /home/biocbuild/R/R/bin/R CMD INSTALL pcaMethods StartedAt: 2025-10-02 20:24:29 -0000 (Thu, 02 Oct 2025) EndedAt: 2025-10-02 20:24:49 -0000 (Thu, 02 Oct 2025) EllapsedTime: 20.4 seconds RetCode: 0 Status: OK