Package: pcaMethods Version: 2.0.0 Command: /Library/Frameworks/R.framework/Resources/bin/R CMD build --keep-empty-dirs --no-resave-data pcaMethods StartedAt: 2025-04-21 17:14:40 -0400 (Mon, 21 Apr 2025) EndedAt: 2025-04-21 17:15:32 -0400 (Mon, 21 Apr 2025) EllapsedTime: 52.6 seconds RetCode: 0 Status: OK PackageFile: pcaMethods_2.0.0.tar.gz PackageFileSize: 1013 KiB