Package: pcaMethods Version: 2.0.0 Command: /Library/Frameworks/R.framework/Resources/bin/R CMD INSTALL pcaMethods StartedAt: 2025-10-13 15:35:03 -0400 (Mon, 13 Oct 2025) EndedAt: 2025-10-13 15:35:18 -0400 (Mon, 13 Oct 2025) EllapsedTime: 14.8 seconds RetCode: 0 Status: OK