Package: pcaMethods Version: 2.0.0 Command: rm -rf pcaMethods.buildbin-libdir && mkdir pcaMethods.buildbin-libdir && /Users/biocbuild/BBS/utils/build-universal.sh pcaMethods_2.0.0.tar.gz /Library/Frameworks/R.framework/Resources/bin/R pcaMethods.buildbin-libdir StartedAt: 2025-10-15 19:45:07 -0400 (Wed, 15 Oct 2025) EndedAt: 2025-10-15 19:45:26 -0400 (Wed, 15 Oct 2025) EllapsedTime: 18.3 seconds RetCode: 0 Status: OK PackageFile: pcaMethods_2.0.0.tgz PackageFileSize: 1.436 MiB