Package: pcaExplorer Version: 3.1.1 Command: E:\biocbuild\bbs-3.21-bioc\R\bin\R.exe CMD INSTALL pcaExplorer StartedAt: 2025-02-18 16:43:38 -0500 (Tue, 18 Feb 2025) EndedAt: 2025-02-18 16:44:44 -0500 (Tue, 18 Feb 2025) EllapsedTime: 66.2 seconds RetCode: 0 Status: OK