Package: pcaExplorer Version: 3.1.1 Command: E:\biocbuild\bbs-3.21-bioc\R\bin\R.exe CMD check --no-multiarch --install=check:pcaExplorer.install-out.txt --library=E:\biocbuild\bbs-3.21-bioc\R\library --no-vignettes --timings pcaExplorer_3.1.1.tar.gz StartedAt: 2025-02-19 03:51:57 -0500 (Wed, 19 Feb 2025) EndedAt: 2025-02-19 04:03:31 -0500 (Wed, 19 Feb 2025) EllapsedTime: 694.2 seconds RetCode: 0 Status: OK CheckDir: pcaExplorer.Rcheck Warnings: 0