Package: pcaExplorer Version: 3.1.1 Command: /home/biocbuild/bbs-3.21-bioc/R/bin/R CMD INSTALL pcaExplorer StartedAt: 2025-02-18 15:46:02 -0500 (Tue, 18 Feb 2025) EndedAt: 2025-02-18 15:46:58 -0500 (Tue, 18 Feb 2025) EllapsedTime: 56.0 seconds RetCode: 0 Status: OK