Package: pcaExplorer Version: 3.1.1 Command: /home/biocbuild/bbs-3.21-bioc/R/bin/R CMD build --keep-empty-dirs --no-resave-data pcaExplorer StartedAt: 2025-02-18 18:28:43 -0500 (Tue, 18 Feb 2025) EndedAt: 2025-02-18 18:30:49 -0500 (Tue, 18 Feb 2025) EllapsedTime: 125.1 seconds RetCode: 0 Status: OK PackageFile: pcaExplorer_3.1.1.tar.gz PackageFileSize: 10.72 MiB