Package: pcaExplorer Version: 3.1.1 Command: /Library/Frameworks/R.framework/Resources/bin/R CMD INSTALL pcaExplorer StartedAt: 2025-02-18 15:37:38 -0500 (Tue, 18 Feb 2025) EndedAt: 2025-02-18 15:38:51 -0500 (Tue, 18 Feb 2025) EllapsedTime: 72.3 seconds RetCode: 0 Status: OK