Package: pcaExplorer Version: 3.1.1 Command: /Library/Frameworks/R.framework/Resources/bin/R CMD build --keep-empty-dirs --no-resave-data pcaExplorer StartedAt: 2025-02-18 17:43:03 -0500 (Tue, 18 Feb 2025) EndedAt: 2025-02-18 17:45:50 -0500 (Tue, 18 Feb 2025) EllapsedTime: 166.5 seconds RetCode: 0 Status: OK PackageFile: pcaExplorer_3.1.1.tar.gz PackageFileSize: 10.74 MiB