Package: pcaExplorer Version: 3.1.1 Command: rm -rf pcaExplorer.buildbin-libdir && mkdir pcaExplorer.buildbin-libdir && /Users/biocbuild/BBS/utils/build-universal.sh pcaExplorer_3.1.1.tar.gz /Library/Frameworks/R.framework/Resources/bin/R pcaExplorer.buildbin-libdir StartedAt: 2025-02-19 00:39:00 -0500 (Wed, 19 Feb 2025) EndedAt: 2025-02-19 00:40:19 -0500 (Wed, 19 Feb 2025) EllapsedTime: 79.0 seconds RetCode: 0 Status: OK PackageFile: pcaExplorer_3.1.1.tgz PackageFileSize: 8.343 MiB