Package: paxtoolsr Version: 1.41.1 Command: E:\biocbuild\bbs-3.21-bioc\R\bin\R.exe CMD INSTALL paxtoolsr StartedAt: 2025-02-20 15:27:17 -0500 (Thu, 20 Feb 2025) EndedAt: 2025-02-20 15:27:55 -0500 (Thu, 20 Feb 2025) EllapsedTime: 38.2 seconds RetCode: 0 Status: OK