Package: paxtoolsr Version: 1.41.1 Command: chmod a+r paxtoolsr -R && E:\biocbuild\bbs-3.21-bioc\R\bin\R.exe CMD build --keep-empty-dirs --no-resave-data paxtoolsr StartedAt: 2025-02-20 20:41:59 -0500 (Thu, 20 Feb 2025) EndedAt: 2025-02-20 20:42:57 -0500 (Thu, 20 Feb 2025) EllapsedTime: 57.9 seconds RetCode: 1 Status: ERROR PackageFile: None PackageFileSize: NA