Package: paxtoolsr Version: 1.41.1 Command: /home/biocbuild/R/R/bin/R CMD build --keep-empty-dirs --no-resave-data paxtoolsr StartedAt: 2025-01-29 01:12:23 -0000 (Wed, 29 Jan 2025) EndedAt: 2025-01-29 01:12:47 -0000 (Wed, 29 Jan 2025) EllapsedTime: 24.0 seconds RetCode: 1 Status: ERROR PackageFile: None PackageFileSize: NA