Package: paxtoolsr Version: 1.41.1 Command: /Library/Frameworks/R.framework/Resources/bin/R CMD INSTALL paxtoolsr StartedAt: 2025-02-20 15:03:46 -0500 (Thu, 20 Feb 2025) EndedAt: 2025-02-20 15:03:50 -0500 (Thu, 20 Feb 2025) EllapsedTime: 4.1 seconds RetCode: 0 Status: OK