Package: pathwayPCA Version: 1.23.0 Command: /Library/Frameworks/R.framework/Resources/bin/R CMD check --install=check:pathwayPCA.install-out.txt --library=/Library/Frameworks/R.framework/Resources/library --no-vignettes --timings pathwayPCA_1.23.0.tar.gz StartedAt: 2025-02-19 22:17:25 -0500 (Wed, 19 Feb 2025) EndedAt: 2025-02-19 22:20:19 -0500 (Wed, 19 Feb 2025) EllapsedTime: 173.7 seconds RetCode: 0 Status: OK CheckDir: pathwayPCA.Rcheck Warnings: 0