Package: pathwayPCA Version: 1.23.0 Command: /Library/Frameworks/R.framework/Resources/bin/R CMD INSTALL pathwayPCA StartedAt: 2025-02-19 15:24:24 -0500 (Wed, 19 Feb 2025) EndedAt: 2025-02-19 15:24:28 -0500 (Wed, 19 Feb 2025) EllapsedTime: 3.8 seconds RetCode: 0 Status: OK