Package: pathwayPCA Version: 1.23.0 Command: rm -rf pathwayPCA.buildbin-libdir && mkdir pathwayPCA.buildbin-libdir && /Users/biocbuild/BBS/utils/build-universal.sh pathwayPCA_1.23.0.tar.gz /Library/Frameworks/R.framework/Resources/bin/R pathwayPCA.buildbin-libdir StartedAt: 2025-02-19 22:32:32 -0500 (Wed, 19 Feb 2025) EndedAt: 2025-02-19 22:32:37 -0500 (Wed, 19 Feb 2025) EllapsedTime: 5.1 seconds RetCode: 0 Status: OK PackageFile: pathwayPCA_1.23.0.tgz PackageFileSize: 3.439 MiB