Package: pathlinkR Version: 1.3.7 Command: E:\biocbuild\bbs-3.21-bioc\R\bin\R.exe CMD INSTALL pathlinkR StartedAt: 2025-02-19 16:56:55 -0500 (Wed, 19 Feb 2025) EndedAt: 2025-02-19 16:57:22 -0500 (Wed, 19 Feb 2025) EllapsedTime: 27.0 seconds RetCode: 0 Status: OK