Package: pathlinkR Version: 1.3.7 Command: chmod a+r pathlinkR -R && E:\biocbuild\bbs-3.21-bioc\R\bin\R.exe CMD build --keep-empty-dirs --no-resave-data pathlinkR StartedAt: 2025-02-20 20:41:03 -0500 (Thu, 20 Feb 2025) EndedAt: 2025-02-20 20:53:23 -0500 (Thu, 20 Feb 2025) EllapsedTime: 740.1 seconds RetCode: 0 Status: OK PackageFile: pathlinkR_1.3.7.tar.gz PackageFileSize: 3.167 MiB