Package: pathlinkR Version: 1.3.7 Command: /Library/Frameworks/R.framework/Resources/bin/R CMD INSTALL pathlinkR StartedAt: 2025-02-20 15:42:03 -0500 (Thu, 20 Feb 2025) EndedAt: 2025-02-20 15:42:24 -0500 (Thu, 20 Feb 2025) EllapsedTime: 21.4 seconds RetCode: 0 Status: OK