Package: pathlinkR Version: 1.3.7 Command: /Library/Frameworks/R.framework/Resources/bin/R CMD build --keep-empty-dirs --no-resave-data pathlinkR StartedAt: 2025-02-20 17:44:21 -0500 (Thu, 20 Feb 2025) EndedAt: 2025-02-20 17:49:09 -0500 (Thu, 20 Feb 2025) EllapsedTime: 288.5 seconds RetCode: 0 Status: OK PackageFile: pathlinkR_1.3.7.tar.gz PackageFileSize: 4.682 MiB