Package: pathlinkR Version: 1.3.7 Command: rm -rf pathlinkR.buildbin-libdir && mkdir pathlinkR.buildbin-libdir && /Users/biocbuild/BBS/utils/build-universal.sh pathlinkR_1.3.7.tar.gz /Library/Frameworks/R.framework/Resources/bin/R pathlinkR.buildbin-libdir StartedAt: 2025-02-21 00:44:51 -0500 (Fri, 21 Feb 2025) EndedAt: 2025-02-21 00:45:15 -0500 (Fri, 21 Feb 2025) EllapsedTime: 24.4 seconds RetCode: 0 Status: OK PackageFile: pathlinkR_1.3.7.tgz PackageFileSize: 4.812 MiB