Package: pathlinkR Version: 1.3.7 Command: /home/biocbuild/R/R/bin/R CMD build --keep-empty-dirs --no-resave-data pathlinkR StartedAt: 2025-01-29 01:11:26 -0000 (Wed, 29 Jan 2025) EndedAt: 2025-01-29 01:16:50 -0000 (Wed, 29 Jan 2025) EllapsedTime: 324.3 seconds RetCode: 0 Status: OK PackageFile: pathlinkR_1.3.7.tar.gz PackageFileSize: 3.255 MiB