Package: pathlinkR Version: 1.3.7 Command: /Library/Frameworks/R.framework/Resources/bin/R CMD INSTALL pathlinkR StartedAt: 2025-02-19 15:28:21 -0500 (Wed, 19 Feb 2025) EndedAt: 2025-02-19 15:28:27 -0500 (Wed, 19 Feb 2025) EllapsedTime: 6.2 seconds RetCode: 0 Status: OK