Package: pathlinkR Version: 1.3.7 Command: /Library/Frameworks/R.framework/Resources/bin/R CMD build --keep-empty-dirs --no-resave-data pathlinkR StartedAt: 2025-02-19 17:13:46 -0500 (Wed, 19 Feb 2025) EndedAt: 2025-02-19 17:15:10 -0500 (Wed, 19 Feb 2025) EllapsedTime: 83.9 seconds RetCode: 0 Status: OK PackageFile: pathlinkR_1.3.7.tar.gz PackageFileSize: 4.79 MiB