Package: pathlinkR Version: 1.3.7 Command: rm -rf pathlinkR.buildbin-libdir && mkdir pathlinkR.buildbin-libdir && /Users/biocbuild/BBS/utils/build-universal.sh pathlinkR_1.3.7.tar.gz /Library/Frameworks/R.framework/Resources/bin/R pathlinkR.buildbin-libdir StartedAt: 2025-02-20 22:29:20 -0500 (Thu, 20 Feb 2025) EndedAt: 2025-02-20 22:29:27 -0500 (Thu, 20 Feb 2025) EllapsedTime: 7.2 seconds RetCode: 0 Status: OK PackageFile: pathlinkR_1.3.7.tgz PackageFileSize: 4.872 MiB