Package: pathifier Version: 1.45.0 Command: /home/biocbuild/bbs-3.21-bioc/R/bin/R CMD INSTALL pathifier StartedAt: 2025-02-18 15:04:34 -0500 (Tue, 18 Feb 2025) EndedAt: 2025-02-18 15:04:46 -0500 (Tue, 18 Feb 2025) EllapsedTime: 12.1 seconds RetCode: 0 Status: OK