Package: pathifier Version: 1.45.0 Command: /Library/Frameworks/R.framework/Resources/bin/R CMD INSTALL pathifier StartedAt: 2025-02-18 15:05:37 -0500 (Tue, 18 Feb 2025) EndedAt: 2025-02-18 15:05:57 -0500 (Tue, 18 Feb 2025) EllapsedTime: 20.0 seconds RetCode: 0 Status: OK