Package: pathifier Version: 1.45.0 Command: /Library/Frameworks/R.framework/Resources/bin/R CMD check --install=check:pathifier.install-out.txt --library=/Library/Frameworks/R.framework/Resources/library --no-vignettes --timings pathifier_1.45.0.tar.gz StartedAt: 2025-02-18 22:11:13 -0500 (Tue, 18 Feb 2025) EndedAt: 2025-02-18 22:12:34 -0500 (Tue, 18 Feb 2025) EllapsedTime: 81.2 seconds RetCode: 0 Status: OK CheckDir: pathifier.Rcheck Warnings: 0