Package: pathRender Version: 1.75.0 Command: /Library/Frameworks/R.framework/Resources/bin/R CMD INSTALL pathRender StartedAt: 2025-02-18 15:07:14 -0500 (Tue, 18 Feb 2025) EndedAt: 2025-02-18 15:07:20 -0500 (Tue, 18 Feb 2025) EllapsedTime: 6.1 seconds RetCode: 0 Status: OK