Package: partCNV Version: 1.5.0 Command: E:\biocbuild\bbs-3.21-bioc\R\bin\R.exe CMD INSTALL partCNV StartedAt: 2025-02-17 16:14:46 -0500 (Mon, 17 Feb 2025) EndedAt: 2025-02-17 16:15:40 -0500 (Mon, 17 Feb 2025) EllapsedTime: 54.3 seconds RetCode: 0 Status: OK