Package: partCNV Version: 1.5.0 Command: /Library/Frameworks/R.framework/Resources/bin/R CMD build --keep-empty-dirs --no-resave-data partCNV StartedAt: 2025-02-17 17:42:42 -0500 (Mon, 17 Feb 2025) EndedAt: 2025-02-17 17:45:06 -0500 (Mon, 17 Feb 2025) EllapsedTime: 144.5 seconds RetCode: 0 Status: OK PackageFile: partCNV_1.5.0.tar.gz PackageFileSize: 4.659 MiB