Package: partCNV Version: 1.5.0 Command: rm -rf partCNV.buildbin-libdir && mkdir partCNV.buildbin-libdir && /Users/biocbuild/BBS/utils/build-universal.sh partCNV_1.5.0.tar.gz /Library/Frameworks/R.framework/Resources/bin/R partCNV.buildbin-libdir StartedAt: 2025-02-18 00:38:40 -0500 (Tue, 18 Feb 2025) EndedAt: 2025-02-18 00:39:40 -0500 (Tue, 18 Feb 2025) EllapsedTime: 60.1 seconds RetCode: 0 Status: OK PackageFile: partCNV_1.5.0.tgz PackageFileSize: 4.678 MiB