Package: partCNV Version: 1.5.0 Command: /home/biocbuild/R/R/bin/R CMD build --keep-empty-dirs --no-resave-data partCNV StartedAt: 2025-01-29 01:11:10 -0000 (Wed, 29 Jan 2025) EndedAt: 2025-01-29 01:13:22 -0000 (Wed, 29 Jan 2025) EllapsedTime: 132.1 seconds RetCode: 0 Status: OK PackageFile: partCNV_1.5.0.tar.gz PackageFileSize: 4.556 MiB