Package: partCNV Version: 1.5.0 Command: /Library/Frameworks/R.framework/Resources/bin/R CMD check --install=check:partCNV.install-out.txt --library=/Library/Frameworks/R.framework/Resources/library --no-vignettes --timings partCNV_1.5.0.tar.gz StartedAt: 2025-02-17 20:38:19 -0500 (Mon, 17 Feb 2025) EndedAt: 2025-02-17 20:40:35 -0500 (Mon, 17 Feb 2025) EllapsedTime: 135.6 seconds RetCode: 0 Status: OK CheckDir: partCNV.Rcheck Warnings: 0