Package: parody Version: 1.65.2002 Command: /Library/Frameworks/R.framework/Resources/bin/R CMD check --install=check:parody.install-out.txt --library=/Library/Frameworks/R.framework/Resources/library --no-vignettes --timings parody_1.65.2002.tar.gz StartedAt: 2025-02-20 22:15:29 -0500 (Thu, 20 Feb 2025) EndedAt: 2025-02-20 22:16:43 -0500 (Thu, 20 Feb 2025) EllapsedTime: 73.8 seconds RetCode: 0 Status: OK CheckDir: parody.Rcheck Warnings: 0