Package: parody Version: 1.65.2002 Command: /Library/Frameworks/R.framework/Resources/bin/R CMD INSTALL parody StartedAt: 2025-02-19 15:03:09 -0500 (Wed, 19 Feb 2025) EndedAt: 2025-02-19 15:03:15 -0500 (Wed, 19 Feb 2025) EllapsedTime: 6.0 seconds RetCode: 0 Status: OK